BEGIN:VCALENDAR
VERSION:2.0
PRODID:-//CBOP - ECPv6.15.0.1//NONSGML v1.0//EN
CALSCALE:GREGORIAN
METHOD:PUBLISH
X-WR-CALNAME:CBOP
X-ORIGINAL-URL:https://creativebop.org.nz
X-WR-CALDESC:Events for CBOP
REFRESH-INTERVAL;VALUE=DURATION:PT1H
X-Robots-Tag:noindex
X-PUBLISHED-TTL:PT1H
BEGIN:VTIMEZONE
TZID:Pacific/Auckland
BEGIN:STANDARD
TZOFFSETFROM:+1300
TZOFFSETTO:+1200
TZNAME:NZST
DTSTART:20260404T140000
END:STANDARD
BEGIN:DAYLIGHT
TZOFFSETFROM:+1200
TZOFFSETTO:+1300
TZNAME:NZDT
DTSTART:20260926T140000
END:DAYLIGHT
END:VTIMEZONE
BEGIN:VEVENT
DTSTART;TZID=Pacific/Auckland:20260418T183000
DTEND;TZID=Pacific/Auckland:20260418T213000
DTSTAMP:20260423T224244
CREATED:20260325T193433Z
LAST-MODIFIED:20260325T193434Z
UID:10005691-1776537000-1776547800@creativebop.org.nz
SUMMARY:Queerly Talented
DESCRIPTION:Presented by: Curves O Plenty\nAs part of Tauranga Moana Pride Week\, Curves O Plenty are thrilled to present Queerly Talented — a Rainbow talent quest celebrating the creativity\, diversity\, and brilliance of our local Rainbow community. \nQueerly Talented welcomes all forms of entertainment\, including dance\, music\, song\, spoken word\, comedy\, drag\, and more. This year we have an exciting line-up of 13 talented artists representing a wide range of performance disciplines. \nThe event is a celebration of the extraordinary talent within our Rainbow community. Our aim is to support\, showcase\, and celebrate Queer artists while inviting the wider Tauranga Moana community to come along and enjoy the incredible talent on display. \nWe are delighted to announce that Richard O’Brien of Rocky Horror fame will join us as part of our celebrity judging panel. The judges will select the Queerly Crowned winner\, alongside a Queerly Chosen (People’s Choice) award voted for by the audience. To encourage family\, friends\, and supporters to attend and cheer on their people\, Queerly Talented is a PG-rated event. \nThanks to the generosity of our partners listed below\, we are able to keep ticket prices accessible at $10 per person\, with a 25% discount for groups of four or more. \nEvent Supporters:\nBaycourt Community & Arts Centre\nVINNIES (yes – the Op Shop!)\nAnd prizes for our winners from Luxe Cinema and Altitude Aerials Studio \nJoin us for an evening of celebration\, talent\, and community — and help us crown Tauranga Moana’s Queerly Talented star. \nFind out more
URL:https://creativebop.org.nz/event/queerly-talented/
LOCATION:Baycourt Community & Arts Centre\, 38 Durham Street\, Tauranga\, Bay Of Plenty\, 3110\, New Zealand
CATEGORIES:Event
ATTACH;FMTTYPE=image/jpeg:https://creativebop.org.nz/wp-content/uploads/Kendra-events-template-30-2.jpg
ORGANIZER;CN="Curves o' Plenty":MAILTO:curvesoplenty@gmail.com
GEO:-37.6830069;176.1674593
X-APPLE-STRUCTURED-LOCATION;VALUE=URI;X-ADDRESS=Baycourt Community & Arts Centre 38 Durham Street Tauranga Bay Of Plenty 3110 New Zealand;X-APPLE-RADIUS=500;X-TITLE=38 Durham Street:geo:176.1674593,-37.6830069
END:VEVENT
BEGIN:VEVENT
DTSTART;TZID=Pacific/Auckland:20260331T190000
DTEND;TZID=Pacific/Auckland:20260331T210000
DTSTAMP:20260423T224244
CREATED:20260331T005146Z
LAST-MODIFIED:20260331T005214Z
UID:10005727-1774983600-1774990800@creativebop.org.nz
SUMMARY:Read Between
DESCRIPTION:Presented by: Read Between the Rhymes\nOn the last Tuesday of each month\, we gather to share poetry. You can bring your own poetry or a piece of poetry you happen to enjoy. You can read or you can sit and listen. All poetry is welcome and all poets are welcome. \nJoin the Read Between the Rhymes Facebook group for updates and discussions. \nFind out more
URL:https://creativebop.org.nz/event/read-between/2026-03-31/
LOCATION:The Jam Factory\, The Jam Factory\, 17th Ave West\, Tauranga South\, Tauranga 3112\, Tauranga\, Bay of Plenty\, 3112\, New Zealand
CATEGORIES:Event
ATTACH;FMTTYPE=image/jpeg:https://creativebop.org.nz/wp-content/uploads/Kendra-events-template-31.jpg
GEO:-37.7078037;176.1534414
X-APPLE-STRUCTURED-LOCATION;VALUE=URI;X-ADDRESS=The Jam Factory The Jam Factory 17th Ave West Tauranga South Tauranga 3112 Tauranga Bay of Plenty 3112 New Zealand;X-APPLE-RADIUS=500;X-TITLE=The Jam Factory\, 17th Ave West\, Tauranga South\, Tauranga 3112:geo:176.1534414,-37.7078037
END:VEVENT
END:VCALENDAR