BEGIN:VCALENDAR
VERSION:2.0
PRODID:-//CBOP - ECPv6.15.0.1//NONSGML v1.0//EN
CALSCALE:GREGORIAN
METHOD:PUBLISH
X-WR-CALNAME:CBOP
X-ORIGINAL-URL:https://creativebop.org.nz
X-WR-CALDESC:Events for CBOP
REFRESH-INTERVAL;VALUE=DURATION:PT1H
X-Robots-Tag:noindex
X-PUBLISHED-TTL:PT1H
BEGIN:VTIMEZONE
TZID:Pacific/Auckland
BEGIN:STANDARD
TZOFFSETFROM:+1300
TZOFFSETTO:+1200
TZNAME:NZST
DTSTART:20260404T140000
END:STANDARD
BEGIN:DAYLIGHT
TZOFFSETFROM:+1200
TZOFFSETTO:+1300
TZNAME:NZDT
DTSTART:20260926T140000
END:DAYLIGHT
END:VTIMEZONE
BEGIN:VEVENT
DTSTART;TZID=Pacific/Auckland:20260125T190000
DTEND;TZID=Pacific/Auckland:20260125T200000
DTSTAMP:20260420T020628
CREATED:20250429T001749Z
LAST-MODIFIED:20250429T001749Z
UID:10004268-1769367600-1769371200@creativebop.org.nz
SUMMARY:Jimmy Carr - Laughs Funny
DESCRIPTION:Presented by: Bohm Presents\nIf you like fast-paced\, edgy one-liners then get ready to be happy. Jimmy Carr is going back on tour with his brand-new show ‘Jimmy Carr: Laughs Funny’. \nJimmy tells jokes\, and jokes are like magnets. Jokes attract people\, but they can also repel. \nSome people are repelled by Jimmy’s dark brand of comedy. This show is not for them. But if it’s the kind of thing you like\, then this is the kind of thing you’ll like. \nHurry\, this will definitely sell out! \n“A comedy hero for our times” The Guardian. \n“Jimmy Carr is a world-class comedian” The Independent. \nFind out more
URL:https://creativebop.org.nz/event/jimmy-carr-laughs-funny/
LOCATION:Mercury Baypark\, Trustpower Stadium\, 81 Truman Ln\, Mount Maunganui\, Tauranga 3175\, Tauranga\, Bay of Plenty\, 3175\, New Zealand
CATEGORIES:Event
ATTACH;FMTTYPE=image/jpeg:https://creativebop.org.nz/wp-content/uploads/EVENT-HEADER-IMAGE-2.jpg
ORGANIZER;CN="Bohm Presents":MAILTO:julian@bohmpresents.com
GEO:-37.6851049;176.2271245
X-APPLE-STRUCTURED-LOCATION;VALUE=URI;X-ADDRESS=Mercury Baypark Trustpower Stadium 81 Truman Ln Mount Maunganui Tauranga 3175 Tauranga Bay of Plenty 3175 New Zealand;X-APPLE-RADIUS=500;X-TITLE=Trustpower Stadium\, 81 Truman Ln\, Mount Maunganui\, Tauranga 3175:geo:176.2271245,-37.6851049
END:VEVENT
END:VCALENDAR