BEGIN:VCALENDAR
VERSION:2.0
PRODID:-//CBOP - ECPv6.15.0.1//NONSGML v1.0//EN
CALSCALE:GREGORIAN
METHOD:PUBLISH
X-ORIGINAL-URL:https://creativebop.org.nz
X-WR-CALDESC:Events for CBOP
REFRESH-INTERVAL;VALUE=DURATION:PT1H
X-Robots-Tag:noindex
X-PUBLISHED-TTL:PT1H
BEGIN:VTIMEZONE
TZID:Pacific/Auckland
BEGIN:STANDARD
TZOFFSETFROM:+1300
TZOFFSETTO:+1200
TZNAME:NZST
DTSTART:20260404T140000
END:STANDARD
BEGIN:DAYLIGHT
TZOFFSETFROM:+1200
TZOFFSETTO:+1300
TZNAME:NZDT
DTSTART:20260926T140000
END:DAYLIGHT
END:VTIMEZONE
BEGIN:VEVENT
DTSTART;TZID=Pacific/Auckland:20260418T100000
DTEND;TZID=Pacific/Auckland:20260418T150000
DTSTAMP:20260420T021355
CREATED:20260408T224211Z
LAST-MODIFIED:20260408T225440Z
UID:10005751-1776506400-1776524400@creativebop.org.nz
SUMMARY:Rug Tufting Workshop
DESCRIPTION:Presented by: The Creative Community Campus\nWelcome to rug-making using a rug tufting gun! \nIn this workshop you will be given everything you need to create a 40cmx40cm mounted rug tufted artwork to hang on your wall. Prior to the workshop you have the option of providing your own design to work from or choose from one provided\, which will be ready to work from on the day. Tutoring on each step of the rug tufting process will follow with music playing throughout and plenty of snack breaks! Tea\, coffee + snacks provided. \nYou will have access to:\nTufting Frames\nPrimary tufting fabric\nNZ rug wool\nAn AK-I Tufting cut pile gun\nElectric carvers\nSecondary backing fabric \nLeah Creaven is an Irish textile artist now based in Tauranga. We are so lucky to have her as an Incubator resident artist\, creating rug-tufted artworks and teaching rug tufting workshops locally and beyond. You can visit Leah in Villa Studios and peruse her work through the links below: \nWebsite – www.leahcreaventextiles.com \nInstagram – @leahcreaven_rugs \nFind out more
URL:https://creativebop.org.nz/event/rug-tufting-workshop/
LOCATION:The Creative Community Campus\, 159\, Historic Village\, 17th Ave\, Tauranga\, Bay of Plenty\, 3112\, New Zealand
CATEGORIES:Workshop
ATTACH;FMTTYPE=image/jpeg:https://creativebop.org.nz/wp-content/uploads/Kendra-events-template-31-8.jpg
END:VEVENT
BEGIN:VEVENT
DTSTART;TZID=Pacific/Auckland:20260416T183000
DTEND;TZID=Pacific/Auckland:20260416T203000
DTSTAMP:20260420T021355
CREATED:20260331T012643Z
LAST-MODIFIED:20260331T012643Z
UID:10005735-1776364200-1776371400@creativebop.org.nz
SUMMARY:Queer Crafts
DESCRIPTION:Presented by: The Creative Community Campus\nA meet up for all people who identify as LGBTQAI+\, we are a warm community who meet to socialise\, share our stories and learn from each other – all over doing crafts. Every third Thursday of the month. \nThe crafts can be your own projects or a project you’re all working on together\, it’s a great opportunity to meet like-minded others. \nThird Thursday of every month | 6.30 – 8.30pm | Koha. \nJust rock on up! See ya there. \nFind out more
URL:https://creativebop.org.nz/event/queer-crafts/2026-04-16/
LOCATION:The Creative Community Campus\, 159\, Historic Village\, 17th Ave\, Tauranga\, Bay of Plenty\, 3112\, New Zealand
CATEGORIES:Event
ATTACH;FMTTYPE=image/jpeg:https://creativebop.org.nz/wp-content/uploads/Kendra-events-template-31-1.jpg
END:VEVENT
BEGIN:VEVENT
DTSTART;TZID=Pacific/Auckland:20260416T100000
DTEND;TZID=Pacific/Auckland:20260416T120000
DTSTAMP:20260420T021355
CREATED:20260408T234123Z
LAST-MODIFIED:20260408T234124Z
UID:10005782-1776333600-1776340800@creativebop.org.nz
SUMMARY:DIY Patches with Sarah Sew Love
DESCRIPTION:Presented by: The Creative Community Campus\nCreate your own musical\, magical\, monster or miscellaneous patch for your backpack\, jacket or hat! Explore the fun of layering fabrics\, beads\, trims and embroidery to craft your one-of-a-kind patch. Learn hand sewing skills as well as using the sewing machine when we sew them on. \nAll materials and equipment supplied\, just remember to bring the item you want to sew the patch onto. \nSarah Sew Love is a self proclaimed “hype girl for YOUR sustainable sewing journey”! She’s been sewing\, blogging\, gramming and teaching sewing for over 10 years through her sewcial enterprise Sew Love and she’s now calling Tauranga home. Sarah’s known for popping up workshops all over NZ; alongside markets\, conferences\, schools\, community houses & recycle centres to share her passion for sewing skills and sustainable living. “DIYing the reusables we need\, repairing the things we love\, embracing sewing slow and sewing together with others – it all makes our lives more special!” In recent years she’s mostly known for her sellout upcycled scrap bum bags and dancing around on instagram but hosting workshops is her homebase of happiness. Rest assured the energy is just the same in real life so come join one of her workshops this winter in our Social Fabric room. With big smiles and rainbow fabric scraps\, her workshops always provide a safe space and encouragement for everyone’s creativity and self expression through sewing. \nIMPORTANT: This workshop has been thoughtfully curated by the tutor to nurture their creativity\, so we recommend you leave your child(ren) to enjoy it on their own and with their peers. Both the Campus and the Village have lost of spaces for you to chill and wait until the workshop is finished. \nFind out more
URL:https://creativebop.org.nz/event/diy-patches-with-sarah-sew-love/
LOCATION:The Creative Community Campus\, 159\, Historic Village\, 17th Ave\, Tauranga\, Bay of Plenty\, 3112\, New Zealand
CATEGORIES:Workshop
ATTACH;FMTTYPE=image/jpeg:https://creativebop.org.nz/wp-content/uploads/Kendra-events-template-32.jpg
END:VEVENT
BEGIN:VEVENT
DTSTART;TZID=Pacific/Auckland:20260414T133000
DTEND;TZID=Pacific/Auckland:20260414T160000
DTSTAMP:20260420T021355
CREATED:20260408T234432Z
LAST-MODIFIED:20260408T234432Z
UID:10005783-1776173400-1776182400@creativebop.org.nz
SUMMARY:Circles in Bloom with Emma Prill
DESCRIPTION:Presented by: The Creative Community Campus\nInvite your child to explore creativity in Emma’s floral art workshop\, where they’ll construct a vibrant\, circular artwork. Guided by practical demonstrations\, children will dive into a world of colour and texture. They’ll begin by layering rich gouache paints\, then add intricate details with Posca pens. The fun continues as they experiment with Japanese paper\, using both cutting and tearing techniques to build a dynamic collage. A final application of gold paint adds a magical sparkle to their creation. This workshop is a wonderful exploration of colour mixing\, mark-making\, and mixed-media collage. \nEmma Prill is a mixed media artist and art educator who holds a Bachelor of Visual Arts. Her own works are escapes into vibrant colour\, representing ideal\, flourishing garden views designed to rejuvenate the viewer. Emma’s passion for creativity extends far beyond her own studio practice. She is a beloved children’s art tutor\, hosting regular\, sold-out workshops which are calm meditative spaces\, full or creativity. Emma guides kids through experimental processes\, helping them build brilliant compositions that tell imaginative stories. Using a range of materials\, she empowers her young students to explore mark-making and abstract forms\, ensuring every child walks away with a colourful masterpiece of their own. \nIMPORTANT: This workshop has been thoughtfully curated by the tutor to nurture their creativity\, so we recommend you leave your child(ren) to enjoy it on their own and with their peers. Both the Campus and the Village have lost of spaces for you to chill and wait until the workshop is finished. \nFind out more
URL:https://creativebop.org.nz/event/circles-in-bloom-with-emma-prill/
LOCATION:The Creative Community Campus\, 159\, Historic Village\, 17th Ave\, Tauranga\, Bay of Plenty\, 3112\, New Zealand
CATEGORIES:Workshop
ATTACH;FMTTYPE=image/jpeg:https://creativebop.org.nz/wp-content/uploads/Kendra-events-template-32-1.jpg
END:VEVENT
BEGIN:VEVENT
DTSTART;TZID=Pacific/Auckland:20260414T100000
DTEND;TZID=Pacific/Auckland:20260414T120000
DTSTAMP:20260420T021355
CREATED:20260408T234744Z
LAST-MODIFIED:20260408T234745Z
UID:10005784-1776160800-1776168000@creativebop.org.nz
SUMMARY:Moonlit Tigers with Emma Prill
DESCRIPTION:Presented by: The Creative Community Campus\nIn this workshop\, children will use acrylic paint and Posca pens on canvas to create a magical moonlit jungle scene\, featuring tigers illuminated by the glow of the moon. We will explore colour\, pattern\, mixing paints\, and the atmosphere of the night-time jungle. \nPlease bring morning tea and a drink bottle\, and wear old clothes — we get messy! \nEmma Prill is a painter and art educator who holds a Bachelor of Visual Arts. Her own works are escapes into vibrant colour\, representing ideal\, flourishing garden views designed to rejuvenate the viewer. Emma’s passion for creativity extends far beyond her own studio practice. She is a beloved children’s art tutor\, hosting regular\, sold-out workshops which are calm meditative spaces\, full or creativity. Emma guides kids through experimental processes\, helping them build brilliant compositions that tell imaginative stories. Using a range of materials\, she empowers her young students to explore mark-making and abstract forms\, ensuring every child walks away with a colourful masterpiece of their own. \nIMPORTANT: This workshop has been thoughtfully curated by the tutor to nurture their creativity\, so we recommend you leave your child(ren) to enjoy it on their own and with their peers. Both the Campus and the Village have lost of spaces for you to chill and wait until the workshop is finished. \nFind out more
URL:https://creativebop.org.nz/event/moonlit-tigers-with-emma-prill/
LOCATION:The Creative Community Campus\, 159\, Historic Village\, 17th Ave\, Tauranga\, Bay of Plenty\, 3112\, New Zealand
CATEGORIES:Workshop
ATTACH;FMTTYPE=image/jpeg:https://creativebop.org.nz/wp-content/uploads/Kendra-events-template-32-2.jpg
END:VEVENT
END:VCALENDAR