BEGIN:VCALENDAR
VERSION:2.0
PRODID:-//CBOP - ECPv6.15.0.1//NONSGML v1.0//EN
CALSCALE:GREGORIAN
METHOD:PUBLISH
X-ORIGINAL-URL:https://creativebop.org.nz
X-WR-CALDESC:Events for CBOP
REFRESH-INTERVAL;VALUE=DURATION:PT1H
X-Robots-Tag:noindex
X-PUBLISHED-TTL:PT1H
BEGIN:VTIMEZONE
TZID:Pacific/Auckland
BEGIN:STANDARD
TZOFFSETFROM:+1300
TZOFFSETTO:+1200
TZNAME:NZST
DTSTART:20260404T140000
END:STANDARD
BEGIN:DAYLIGHT
TZOFFSETFROM:+1200
TZOFFSETTO:+1300
TZNAME:NZDT
DTSTART:20260926T140000
END:DAYLIGHT
END:VTIMEZONE
BEGIN:VEVENT
DTSTART;TZID=Pacific/Auckland:20260423T170000
DTEND;TZID=Pacific/Auckland:20260423T210000
DTSTAMP:20260422T003730
CREATED:20260326T015630Z
LAST-MODIFIED:20260326T015630Z
UID:10005700-1776963600-1776978000@creativebop.org.nz
SUMMARY:Dinner in the Domain
DESCRIPTION:Presented by: Little Big Events\nDinner in the Domain – Every Thursday in Pāpāmoa. \nYour perfect summer ritual is back — every Thursday from 5pm–9pm at the Pāpāmoa Pony Club! \nBring your crew\, your appetite\, and your picnic blanket for a chilled-out evening of:\nUp to 20 epic food trucks\nA fully stocked bar with wine\, beers\, RTDs and soft drinks\nLive music to soundtrack your sunset\nLawn games and plenty of space to relax \nWhether it’s date night\, family night\, or just because… Dinner in the Domain is your go-to for good food\, good vibes\, and great company. \nFind out more
URL:https://creativebop.org.nz/event/dinner-in-the-domain/2026-04-23/
LOCATION:Pāpāmoa Pony Club\, 491 Papamoa Beach Road\, Papamoa Beach\, Papamoa 3118\, Papamoa\, Bay of Plenty\, 3118\, New Zealand
CATEGORIES:Event
ATTACH;FMTTYPE=image/jpeg:https://creativebop.org.nz/wp-content/uploads/Kendra-events-template-30-7.jpg
END:VEVENT
BEGIN:VEVENT
DTSTART;TZID=Pacific/Auckland:20260426T090000
DTEND;TZID=Pacific/Auckland:20260426T140000
DTSTAMP:20260422T003730
CREATED:20260421T003432Z
LAST-MODIFIED:20260421T003433Z
UID:10005828-1777194000-1777212000@creativebop.org.nz
SUMMARY:Vegan Vibes X The Little Big Markets
DESCRIPTION:Presented by: Little Big Events\nVegan Vibes returns as a dedicated feature within The Little Big Markets\, bringing together the best in plant-based food\, drink\, and conscious living. Set within one of the region’s most loved and high-energy markets\, this special Vegan Vibes zone pairs bold vegan flavours with the buzzing community atmosphere the markets are known for. \nThis is a vibrant celebration of plant-based eats\, ethical brands\, live atmosphere\, and community connection. Whether you’re fully vegan\, plant-curious\, or simply love great food\, this is a must-visit for vegans\, foodies\, and curious grazers alike. \nFind out more
URL:https://creativebop.org.nz/event/vegan-vibes-x-the-little-big-markets/
LOCATION:Coronation Park\, Coronation Park\, Maunganui Road\, Mount Maunganui\, Tauranga 3116\, Tauranga\, Bay of Plenty\, 3116\, New Zealand
ATTACH;FMTTYPE=image/jpeg:https://creativebop.org.nz/wp-content/uploads/Kendra-events-template-32-28.jpg
GEO:-37.6406452;176.1837582
X-APPLE-STRUCTURED-LOCATION;VALUE=URI;X-ADDRESS=Coronation Park Coronation Park Maunganui Road Mount Maunganui Tauranga 3116 Tauranga Bay of Plenty 3116 New Zealand;X-APPLE-RADIUS=500;X-TITLE=Coronation Park\, Maunganui Road\, Mount Maunganui\, Tauranga 3116:geo:176.1837582,-37.6406452
END:VEVENT
BEGIN:VEVENT
DTSTART;TZID=Pacific/Auckland:20260430T170000
DTEND;TZID=Pacific/Auckland:20260430T210000
DTSTAMP:20260422T003730
CREATED:20260326T015630Z
LAST-MODIFIED:20260326T015630Z
UID:10005701-1777568400-1777582800@creativebop.org.nz
SUMMARY:Dinner in the Domain
DESCRIPTION:Presented by: Little Big Events\nDinner in the Domain – Every Thursday in Pāpāmoa. \nYour perfect summer ritual is back — every Thursday from 5pm–9pm at the Pāpāmoa Pony Club! \nBring your crew\, your appetite\, and your picnic blanket for a chilled-out evening of:\nUp to 20 epic food trucks\nA fully stocked bar with wine\, beers\, RTDs and soft drinks\nLive music to soundtrack your sunset\nLawn games and plenty of space to relax \nWhether it’s date night\, family night\, or just because… Dinner in the Domain is your go-to for good food\, good vibes\, and great company. \nFind out more
URL:https://creativebop.org.nz/event/dinner-in-the-domain/2026-04-30/
LOCATION:Pāpāmoa Pony Club\, 491 Papamoa Beach Road\, Papamoa Beach\, Papamoa 3118\, Papamoa\, Bay of Plenty\, 3118\, New Zealand
CATEGORIES:Event
ATTACH;FMTTYPE=image/jpeg:https://creativebop.org.nz/wp-content/uploads/Kendra-events-template-30-7.jpg
END:VEVENT
END:VCALENDAR