BEGIN:VCALENDAR
VERSION:2.0
PRODID:-//CBOP - ECPv6.15.0.1//NONSGML v1.0//EN
CALSCALE:GREGORIAN
METHOD:PUBLISH
X-ORIGINAL-URL:https://creativebop.org.nz
X-WR-CALDESC:Events for CBOP
REFRESH-INTERVAL;VALUE=DURATION:PT1H
X-Robots-Tag:noindex
X-PUBLISHED-TTL:PT1H
BEGIN:VTIMEZONE
TZID:Pacific/Auckland
BEGIN:STANDARD
TZOFFSETFROM:+1300
TZOFFSETTO:+1200
TZNAME:NZST
DTSTART:20260404T140000
END:STANDARD
BEGIN:DAYLIGHT
TZOFFSETFROM:+1200
TZOFFSETTO:+1300
TZNAME:NZDT
DTSTART:20260926T140000
END:DAYLIGHT
END:VTIMEZONE
BEGIN:VEVENT
DTSTART;TZID=Pacific/Auckland:20260318T123000
DTEND;TZID=Pacific/Auckland:20260318T133000
DTSTAMP:20260420T083401
CREATED:20260312T205230Z
LAST-MODIFIED:20260312T205556Z
UID:10005653-1773837000-1773840600@creativebop.org.nz
SUMMARY:Lunchtime Bites — Old Friends
DESCRIPTION:Presented by: Toi Tauranga Art Gallery\nDesigned with busy professionals in mind\, Lunchtime Bites is a short\, engaging lunchtime talk series offering our city centre neighbours a welcoming space to pause\, recharge\, and reconnect with art. \nJoin us for our first session on Wednesday 18 March\, 12.30–1.30pm (longer than most “bites”)\, where Dr Penelope Jackson will discuss works she curated in our current collection exhibition Old Friends. The selection of works represents and celebrates many of the early relationships forged between artists\, donors\, and Toi Tauranga Art Gallery\, providing a window into our permanent collection. \nIn one bite-sized session\, you’ll gain fresh perspective and creative inspiration\, with no prior art knowledge needed! You can also pop into Breadhead café before or after your visit for something delicious to carry you through the rest of your workday. \nWhilst this is a free event spaces are limited so booking is essential. \nFind out more
URL:https://creativebop.org.nz/event/lunchtime-bites-old-friends/
LOCATION:Toi Tauranga Art Gallery\, Tauranga Art Gallery\, 108 Willow St\, Tauranga\, Bay of Plenty\, 3141\, New Zealand
CATEGORIES:Event
ATTACH;FMTTYPE=image/jpeg:https://creativebop.org.nz/wp-content/uploads/Kendra-events-template-25-4.jpg
ORGANIZER;CN="Toi Tauranga Art Gallery":MAILTO:events@artgallery.org.nz
GEO:-37.68316;176.16895
X-APPLE-STRUCTURED-LOCATION;VALUE=URI;X-ADDRESS=Toi Tauranga Art Gallery Tauranga Art Gallery 108 Willow St Tauranga Bay of Plenty 3141 New Zealand;X-APPLE-RADIUS=500;X-TITLE=Tauranga Art Gallery\, 108 Willow St:geo:176.16895,-37.68316
END:VEVENT
END:VCALENDAR