BEGIN:VCALENDAR
VERSION:2.0
PRODID:-//CBOP - ECPv6.15.0.1//NONSGML v1.0//EN
CALSCALE:GREGORIAN
METHOD:PUBLISH
X-WR-CALNAME:CBOP
X-ORIGINAL-URL:https://creativebop.org.nz
X-WR-CALDESC:Events for CBOP
REFRESH-INTERVAL;VALUE=DURATION:PT1H
X-Robots-Tag:noindex
X-PUBLISHED-TTL:PT1H
BEGIN:VTIMEZONE
TZID:Pacific/Auckland
BEGIN:STANDARD
TZOFFSETFROM:+1300
TZOFFSETTO:+1200
TZNAME:NZST
DTSTART:20260404T140000
END:STANDARD
BEGIN:DAYLIGHT
TZOFFSETFROM:+1200
TZOFFSETTO:+1300
TZNAME:NZDT
DTSTART:20260926T140000
END:DAYLIGHT
END:VTIMEZONE
BEGIN:VEVENT
DTSTART;TZID=Pacific/Auckland:20260429T180000
DTEND;TZID=Pacific/Auckland:20260429T180000
DTSTAMP:20260423T224432
CREATED:20260327T025337Z
LAST-MODIFIED:20260329T061540Z
UID:10005713-1777485600-1777485600@creativebop.org.nz
SUMMARY:Hotere | Film Screening
DESCRIPTION:Presented by: Tauranga Film Society\nMerata Mita | New Zealand | 2001 | 82 mins | HD | M adult themes. \nFilm courtesy of Te Tumu Whakaata Taonga New Zealand Film Commission. \nLike his art\, Ralph Hotere was a man of ambiguity\, allegory\, beauty and complexity. Merata Mita’s moving\, expressionistic portrait brings his work and creative practice to life. \nMembership information: \nFull 12-month membership – $120\nThree-film Sampler membership – $40\n​You can join at any time during the year.\n\nContact Kristine Keir for details or join in person at Luxe Cinema. \nFind out more
URL:https://creativebop.org.nz/event/hotere-film-screening/
LOCATION:Luxe Cinema Tauranga\, 21 Devonport Road\, Tauranga\, 3110
CATEGORIES:Event
ATTACH;FMTTYPE=image/jpeg:https://creativebop.org.nz/wp-content/uploads/Kendra-events-template-30-11.jpg
END:VEVENT
END:VCALENDAR