BEGIN:VCALENDAR
VERSION:2.0
PRODID:-//CBOP - ECPv6.15.0.1//NONSGML v1.0//EN
CALSCALE:GREGORIAN
METHOD:PUBLISH
X-WR-CALNAME:CBOP
X-ORIGINAL-URL:https://creativebop.org.nz
X-WR-CALDESC:Events for CBOP
REFRESH-INTERVAL;VALUE=DURATION:PT1H
X-Robots-Tag:noindex
X-PUBLISHED-TTL:PT1H
BEGIN:VTIMEZONE
TZID:Pacific/Auckland
BEGIN:STANDARD
TZOFFSETFROM:+1300
TZOFFSETTO:+1200
TZNAME:NZST
DTSTART:20260404T140000
END:STANDARD
BEGIN:DAYLIGHT
TZOFFSETFROM:+1200
TZOFFSETTO:+1300
TZNAME:NZDT
DTSTART:20260926T140000
END:DAYLIGHT
END:VTIMEZONE
BEGIN:VEVENT
DTSTART;TZID=Pacific/Auckland:20260426T140000
DTEND;TZID=Pacific/Auckland:20260426T140000
DTSTAMP:20260423T223812
CREATED:20260316T211711Z
LAST-MODIFIED:20260316T212213Z
UID:10005669-1777212000-1777212000@creativebop.org.nz
SUMMARY:Moulin Rouge! - Screening at the Capitol Theatre Te Puke
DESCRIPTION:Presented by: The Capitol Theatre Te Puke\n\n\nJoin us for this musical classic and enjoy snacks\, lollies\, and ice cream available for purchase! \n\n\n\n\nAt the end of the 19th century\, during Paris’ Belle Époque\, Christian\, a young\, penniless poet\, settles in the Montmartre district and discovers a world of sex\, drugs\, and the French cancan. He decides to rebel against this decadent milieu by leading a bohemian life. However\, he soon falls in love with the courtesan Satine\, star of the prodigious cabaret\, coveted by the Duke… \n\n\nRuntime: 2hr 7mins. \nWatch the trailer here. \nTickets also available for purchase at the door. \nFree 4 hour parking available – accessed opposite Farmlands on Boucher Ave – and situated adjacent to the Woolworths car park. The other place to park is behind Te Puke Library – access road beside KFC\, then turn right behind the shops. There is a pedestrian crossing to enable easy access to the Capitol Theatre. \nIf you have any questions please feel free to connect: capitolcinematepuke@gmail.com \nFind out more
URL:https://creativebop.org.nz/event/tina-screening-at-the-capitol-theatre-te-puke-2/2026-04-26/1/
LOCATION:The Capitol Theatre Te Puke\, 131 Jellicoe Street\, Te Puke
CATEGORIES:Event
ATTACH;FMTTYPE=image/jpeg:https://creativebop.org.nz/wp-content/uploads/Kendra-events-template-29-2.jpg
END:VEVENT
BEGIN:VEVENT
DTSTART;TZID=Pacific/Auckland:20260426T190000
DTEND;TZID=Pacific/Auckland:20260426T190000
DTSTAMP:20260423T223812
CREATED:20260316T211711Z
LAST-MODIFIED:20260316T212213Z
UID:10005670-1777230000-1777230000@creativebop.org.nz
SUMMARY:Moulin Rouge! - Screening at the Capitol Theatre Te Puke
DESCRIPTION:Presented by: The Capitol Theatre Te Puke\n\n\nJoin us for this musical classic and enjoy snacks\, lollies\, and ice cream available for purchase! \n\n\n\n\nAt the end of the 19th century\, during Paris’ Belle Époque\, Christian\, a young\, penniless poet\, settles in the Montmartre district and discovers a world of sex\, drugs\, and the French cancan. He decides to rebel against this decadent milieu by leading a bohemian life. However\, he soon falls in love with the courtesan Satine\, star of the prodigious cabaret\, coveted by the Duke… \n\n\nRuntime: 2hr 7mins. \nWatch the trailer here. \nTickets also available for purchase at the door. \nFree 4 hour parking available – accessed opposite Farmlands on Boucher Ave – and situated adjacent to the Woolworths car park. The other place to park is behind Te Puke Library – access road beside KFC\, then turn right behind the shops. There is a pedestrian crossing to enable easy access to the Capitol Theatre. \nIf you have any questions please feel free to connect: capitolcinematepuke@gmail.com \nFind out more
URL:https://creativebop.org.nz/event/tina-screening-at-the-capitol-theatre-te-puke-2/2026-04-26/2/
LOCATION:The Capitol Theatre Te Puke\, 131 Jellicoe Street\, Te Puke
CATEGORIES:Event
ATTACH;FMTTYPE=image/jpeg:https://creativebop.org.nz/wp-content/uploads/Kendra-events-template-29-2.jpg
END:VEVENT
END:VCALENDAR