BEGIN:VCALENDAR
VERSION:2.0
PRODID:-//CBOP - ECPv6.15.0.1//NONSGML v1.0//EN
CALSCALE:GREGORIAN
METHOD:PUBLISH
X-ORIGINAL-URL:https://creativebop.org.nz
X-WR-CALDESC:Events for CBOP
REFRESH-INTERVAL;VALUE=DURATION:PT1H
X-Robots-Tag:noindex
X-PUBLISHED-TTL:PT1H
BEGIN:VTIMEZONE
TZID:Pacific/Auckland
BEGIN:STANDARD
TZOFFSETFROM:+1300
TZOFFSETTO:+1200
TZNAME:NZST
DTSTART:20260404T140000
END:STANDARD
BEGIN:DAYLIGHT
TZOFFSETFROM:+1200
TZOFFSETTO:+1300
TZNAME:NZDT
DTSTART:20260926T140000
END:DAYLIGHT
END:VTIMEZONE
BEGIN:VEVENT
DTSTART;TZID=Pacific/Auckland:20260412T173000
DTEND;TZID=Pacific/Auckland:20260412T173000
DTSTAMP:20260420T035000
CREATED:20260327T025712Z
LAST-MODIFIED:20260327T025712Z
UID:10005714-1776015000-1776015000@creativebop.org.nz
SUMMARY:Michael Morris & The Sonic Boom at The Jam Factory
DESCRIPTION:Presented by: The Jam Factory\nMichael Morris & The Sonic Boom is a five-piece alt rock project from Dunedin\, New Zealand. The band is announcing a tour of NZ in April 2026\, to celebrate the release of a 22 song double album (titled Love Sensation and Destination Down). \nThe music is high energy and fun\, mixing the excitement of high octane 70’s rock with the raw power and emotion of 90’s grunge. “Amped up\, pop rock poetics with wild guitar solos” – UTR. Composed of songwriter/frontman Michael Morris (formerly of The River Jesters and Live Like Lions)\, Benton Glassey (bass)\, Ben Morton (drums)\, Matthew Blick (guitar) and Jo Little (BVs\, guitar) – this group of old friends will visit favourite locations and venues around their homeland\, delivering lofty gifts of musical doings to the great people and discerning audiences of Aotearoa. \nIn recent years\, Mr Morris has toured Europe and NZ on the back of his first two albums (Slow Loris – 2018 and Metamorphosis – 2022). Some highlights have included shows in Paris\, Berlin\, Amsterdam and Brussels\, ending with a sold out gig in London. The project now moves forward to contribute its biggest and tastiest offering to date. Recorded in the remote south island region of The Catlins\, Love Sensation & Destination Down are packed full of new songs from the heart. \n“A new dimension\, NZ polymath creates niche world. Partly unplugged yet entirely electrifying” DMME (Toronto\, Canada). “Artists of the 60’s and 70’s are considered untouchable\, but Morris is here tapping the glass” Out From The Pine Box (Nashville\, USA). “Solid riff based groove that kept the dancers on their feet. Can certainly hit those high notes” 13th Floor (Auckland\, New Zealand). “They brought the house down. The ultimate night\, you don’t want to miss it” Common Room (Hastings\, New Zealand). \nFind out more
URL:https://creativebop.org.nz/event/michael-morris-the-sonic-boom-at-the-jam-factory/
LOCATION:The Jam Factory\, The Jam Factory\, 17th Ave West\, Tauranga South\, Tauranga 3112\, Tauranga\, Bay of Plenty\, 3112\, New Zealand
CATEGORIES:Event
ATTACH;FMTTYPE=image/jpeg:https://creativebop.org.nz/wp-content/uploads/Kendra-events-template-30-12.jpg
ORGANIZER;CN="The Jam Factory":MAILTO:info@theincubator.co.nz
GEO:-37.7078037;176.1534414
X-APPLE-STRUCTURED-LOCATION;VALUE=URI;X-ADDRESS=The Jam Factory The Jam Factory 17th Ave West Tauranga South Tauranga 3112 Tauranga Bay of Plenty 3112 New Zealand;X-APPLE-RADIUS=500;X-TITLE=The Jam Factory\, 17th Ave West\, Tauranga South\, Tauranga 3112:geo:176.1534414,-37.7078037
END:VEVENT
BEGIN:VEVENT
DTSTART;TZID=Pacific/Auckland:20260409T190000
DTEND;TZID=Pacific/Auckland:20260409T220000
DTSTAMP:20260420T035000
CREATED:20260331T051820Z
LAST-MODIFIED:20260331T051821Z
UID:10005745-1775761200-1775772000@creativebop.org.nz
SUMMARY:Ben Catley at The Jam Factory
DESCRIPTION:Presented by: The Jam Factory\nInternational festival artist with virtuoso acoustic guitar playing. Upbeat blues-roots-rock-folk. \nBen Catley returns for his 5th tour of New Zealand\, bringing his high energy live show back to The Jam Factory\, Tauranga! With mesmerising acoustic guitar playing\, big bluesy vocals and an ecstatic stage presence\, Ben pours every ounce of his soul into his live show. \nHaving toured all across Australia\, NZ & UK many times over\, appearing on festival lineups with the likes of The Doobie Brothers\, Crowded House\, Xavier Rudd\, John Butler\, Groove Armada and many more – Ben captivates audiences like few other solo artists. His live show has become renowned for its finger-tapping guitar style\, blistering riffs and driving grooves. \nWith flavours of blues/roots/rock/folk\, Ben weaves between both atmospheric soundscapes and huge upbeat energy\, creating a diverse show of guitar craftsmanship. “A virtuoso guitarist. Captivating skills both vocally and on guitar.” – Xpress Mag. \nFind out more
URL:https://creativebop.org.nz/event/ben-catley-at-the-jam-factory/
LOCATION:The Jam Factory\, The Jam Factory\, 17th Ave West\, Tauranga South\, Tauranga 3112\, Tauranga\, Bay of Plenty\, 3112\, New Zealand
CATEGORIES:Event
ATTACH;FMTTYPE=image/jpeg:https://creativebop.org.nz/wp-content/uploads/Kendra-events-template-31-3.jpg
ORGANIZER;CN="The Jam Factory":MAILTO:info@theincubator.co.nz
GEO:-37.7078037;176.1534414
X-APPLE-STRUCTURED-LOCATION;VALUE=URI;X-ADDRESS=The Jam Factory The Jam Factory 17th Ave West Tauranga South Tauranga 3112 Tauranga Bay of Plenty 3112 New Zealand;X-APPLE-RADIUS=500;X-TITLE=The Jam Factory\, 17th Ave West\, Tauranga South\, Tauranga 3112:geo:176.1534414,-37.7078037
END:VEVENT
BEGIN:VEVENT
DTSTART;TZID=Pacific/Auckland:20260330T190000
DTEND;TZID=Pacific/Auckland:20260330T213000
DTSTAMP:20260420T035000
CREATED:20260326T014443Z
LAST-MODIFIED:20260326T014443Z
UID:10005694-1774897200-1774906200@creativebop.org.nz
SUMMARY:Kevin Le Pennec (Harpist) at The Jam Factory
DESCRIPTION:Presented by: The Jam Factory\nBreton harper and singer\, Kevin Le Pennec brings traditional and contemporary harp and voice to new heights\, weaving story\, dance and music together for an evening of wonder. Award winning harpist\, Kevin Le Pennec won the World Harp Competition in 2024\, and Camac Harp Trophy in 2019. \nAn evening of gorgeous harp music with inspiration drawn from the Celtic world\, pop and jazz influence and Kevin’s own sophisticated sense of rhythm . \nKevin Le Pennec\, singer and harpist\, invites you to experience a timeless moment through his trad-contemporary music. His compositions\, inspired by Breton and Irish traditions\, blend captivating rhythms with pop and jazz influences. The French lyrics tell stories of emotions\, injustices\, and reflections\, engaging both the artist and the audience. His music soothes\, challenges\, and delights\, offering a journey of warmth\, joy\, sorrow\, and intense dances. Kevin Le Pennec won the first prizes and the public prize at the World Harp Competition in April 2024 and the Camac Trophy in August 2019. \nFind out more
URL:https://creativebop.org.nz/event/kevin-le-pennec-harpist-at-the-jam-factory/
LOCATION:The Jam Factory\, The Jam Factory\, 17th Ave West\, Tauranga South\, Tauranga 3112\, Tauranga\, Bay of Plenty\, 3112\, New Zealand
CATEGORIES:Event
ATTACH;FMTTYPE=image/jpeg:https://creativebop.org.nz/wp-content/uploads/Kendra-events-template-30-5.jpg
ORGANIZER;CN="The Jam Factory":MAILTO:info@theincubator.co.nz
GEO:-37.7078037;176.1534414
X-APPLE-STRUCTURED-LOCATION;VALUE=URI;X-ADDRESS=The Jam Factory The Jam Factory 17th Ave West Tauranga South Tauranga 3112 Tauranga Bay of Plenty 3112 New Zealand;X-APPLE-RADIUS=500;X-TITLE=The Jam Factory\, 17th Ave West\, Tauranga South\, Tauranga 3112:geo:176.1534414,-37.7078037
END:VEVENT
END:VCALENDAR