BEGIN:VCALENDAR
VERSION:2.0
PRODID:-//CBOP - ECPv6.15.0.1//NONSGML v1.0//EN
CALSCALE:GREGORIAN
METHOD:PUBLISH
X-WR-CALNAME:CBOP
X-ORIGINAL-URL:https://creativebop.org.nz
X-WR-CALDESC:Events for CBOP
REFRESH-INTERVAL;VALUE=DURATION:PT1H
X-Robots-Tag:noindex
X-PUBLISHED-TTL:PT1H
BEGIN:VTIMEZONE
TZID:Pacific/Auckland
BEGIN:STANDARD
TZOFFSETFROM:+1300
TZOFFSETTO:+1200
TZNAME:NZST
DTSTART:20260404T140000
END:STANDARD
BEGIN:DAYLIGHT
TZOFFSETFROM:+1200
TZOFFSETTO:+1300
TZNAME:NZDT
DTSTART:20260926T140000
END:DAYLIGHT
END:VTIMEZONE
BEGIN:VEVENT
DTSTART;TZID=Pacific/Auckland:20260521T200000
DTEND;TZID=Pacific/Auckland:20260521T200000
DTSTAMP:20260420T003548
CREATED:20251121T073049Z
LAST-MODIFIED:20251121T073358Z
UID:10005404-1779393600-1779393600@creativebop.org.nz
SUMMARY:Alexandr Misko
DESCRIPTION:Presented by: TOTARA STREET\nThis international guitar sensation brings his groundbreaking stage show to Australian shores for the very first time! Hailed as “the future of guitar”(Total Guitar)\, Misko is a globally renowned virtuoso known for his jaw-dropping technique\, emotional depth\, and genre-defying style. \nFusing classical precision with elements of jazz\, rock\, and modern finger style\, his performances are both technically astonishing and deeply moving. Misko’s self-taught\, boundary-pushing approach has captivated millions online\, earning him a massive global following and praise from some of the world’s top music publications. \nWith lightning-fast fingerpicking\, percussive tapping\, and masterful arrangements\, he transforms a single acoustic guitar into an entire musical universe — live and without loops. A must-see for fans of instrumental brilliance\, next-level guitar playing\, and world-class musical storytelling. \nWhat the Press Say: \n“Misko is the future of guitar.”— Total Guitar \n“A one-of-a-kind performance that will leave you speechless.” — The Guardian \n“Alexandr Misko redefines guitar playing with every note he plays.”— MusicRadar \n“A mesmerizing display of technical brilliance and raw emotion.”— Rolling Stone \n“A true guitar prodigy.”— Guitar World \n“An artist who combines virtuosic technique with deep musical expression.”— Guitar Player \nTickets are VERY limited for these intimate concerts — don’t miss out on seeing live music at its finest!!! \nDOORS 7PM – R18. \nFind out more
URL:https://creativebop.org.nz/event/alexandr-misko/
LOCATION:TOTARA STREET\, Totara Street\, 11 Totara St\, Mt Maunganui\, Tauranga 3116\, Tauranga\, Bay of Plenty\, 3116\, New Zealand
CATEGORIES:Event
ATTACH;FMTTYPE=image/jpeg:https://creativebop.org.nz/wp-content/uploads/Kendra-events-template-13-8.jpg
ORGANIZER;CN="TOTARA STREET":MAILTO:jay@totarastreet.co.nz
GEO:-37.6436467;176.1860499
X-APPLE-STRUCTURED-LOCATION;VALUE=URI;X-ADDRESS=TOTARA STREET Totara Street 11 Totara St Mt Maunganui Tauranga 3116 Tauranga Bay of Plenty 3116 New Zealand;X-APPLE-RADIUS=500;X-TITLE=Totara Street\, 11 Totara St\, Mt Maunganui\, Tauranga 3116:geo:176.1860499,-37.6436467
END:VEVENT
END:VCALENDAR