BEGIN:VCALENDAR
VERSION:2.0
PRODID:-//CBOP - ECPv6.15.0.1//NONSGML v1.0//EN
CALSCALE:GREGORIAN
METHOD:PUBLISH
X-WR-CALNAME:CBOP
X-ORIGINAL-URL:https://creativebop.org.nz
X-WR-CALDESC:Events for CBOP
REFRESH-INTERVAL;VALUE=DURATION:PT1H
X-Robots-Tag:noindex
X-PUBLISHED-TTL:PT1H
BEGIN:VTIMEZONE
TZID:Pacific/Auckland
BEGIN:STANDARD
TZOFFSETFROM:+1300
TZOFFSETTO:+1200
TZNAME:NZST
DTSTART:20260404T140000
END:STANDARD
BEGIN:DAYLIGHT
TZOFFSETFROM:+1200
TZOFFSETTO:+1300
TZNAME:NZDT
DTSTART:20260926T140000
END:DAYLIGHT
END:VTIMEZONE
BEGIN:VEVENT
DTSTART;TZID=Pacific/Auckland:20260412T140000
DTEND;TZID=Pacific/Auckland:20260412T150000
DTSTAMP:20260420T051805
CREATED:20260325T203111Z
LAST-MODIFIED:20260325T203123Z
UID:10005692-1776002400-1776006000@creativebop.org.nz
SUMMARY:Perrear for Pride
DESCRIPTION:Presented by: Altitude Pole\nCelebrate Pride month with us! \nPerrear for Pride is a free Reggaeton Old school dance class open to our LGBTQ+ community and Allies in Tauranga to come and have some fun and bring on the Latin vibes. \nPerrear is dancing to the rhythm of reggaeton. It brings sensual vibes\, joy\, high energy\, flirting\, self-confidence\, and much more. It’s a dance that lets you move freely\, feel your body\, and listening to your inner god/dess\, which you can unleash on the dance floor. You can perrear alone  dance with friends  \, with your partner \, even with your pets (no judgement!) \nThe most important thing is to enjoy yourself and feel FREE! \nIf this is something you’ve always wanted to try don’t think for too much longer as we’ve only got 15 spots to fill! \nIn this fun and high energy class you will be guided by our very own Latina and Thai Goddesses (Aom & Catalina). \nEvent details:\nDate: Sunday 12th April 2026\nLocation  : Altitude Pole Mt Maunganui\, 138 Newton Street\nLevel: Open level (beginner friendly) \nWhat you will need:\n– Comfortable clothes that you can move in\, no rules! Bring on the sexy outfit you’ve always wanted to wear\, oversized relaxed clothing or workout clothes\, but remember that you’re gonna sweat\n– Water bottle\n– Deodorant\n– Sweat towel\n– Comfortable sneakers or barefoot \nFind out more
URL:https://creativebop.org.nz/event/perrear-for-pride/
LOCATION:Altitude Pole\, 138b Newton St\, Mount Maunganui\, New Zealand
CATEGORIES:Event
ATTACH;FMTTYPE=image/jpeg:https://creativebop.org.nz/wp-content/uploads/Kendra-events-template-30-3.jpg
ORGANIZER;CN="Altitude Pole The Mount":MAILTO:themount@altitudepole.co.nz
END:VEVENT
END:VCALENDAR