BEGIN:VCALENDAR
VERSION:2.0
PRODID:-//CBOP - ECPv6.15.0.1//NONSGML v1.0//EN
CALSCALE:GREGORIAN
METHOD:PUBLISH
X-ORIGINAL-URL:https://creativebop.org.nz
X-WR-CALDESC:Events for CBOP
REFRESH-INTERVAL;VALUE=DURATION:PT1H
X-Robots-Tag:noindex
X-PUBLISHED-TTL:PT1H
BEGIN:VTIMEZONE
TZID:Pacific/Auckland
BEGIN:STANDARD
TZOFFSETFROM:+1300
TZOFFSETTO:+1200
TZNAME:NZST
DTSTART:20260404T140000
END:STANDARD
BEGIN:DAYLIGHT
TZOFFSETFROM:+1200
TZOFFSETTO:+1300
TZNAME:NZDT
DTSTART:20260926T140000
END:DAYLIGHT
END:VTIMEZONE
BEGIN:VEVENT
DTSTART;TZID=Pacific/Auckland:20260502T130000
DTEND;TZID=Pacific/Auckland:20260502T160000
DTSTAMP:20260422T092917
CREATED:20260421T012954Z
LAST-MODIFIED:20260421T012955Z
UID:10005837-1777726800-1777737600@creativebop.org.nz
SUMMARY:Of the Earth Conceptual Dining Event
DESCRIPTION:Presented by: Flavours of Plenty Festival\nOf The Earth invites you to explore the connection between the land and the food we eat\, with a three course conceptual dining feast. Come and dine from a communal table\, with Rose’s signature ‘food as art’ style of food and learn about the soil and earth the harvested food comes from. Leave with a full belly\, heart and new friends. \nSeating is picnic style and low to the ground as part of the experience\, so please consider if this is suitable for you when purchasing a ticket. \nTickets include a 3 course conceptual dining feast\, free non alcoholic drinks and a take home goodie. \nVegan and vegetarian dietary requirements can be catered for\, but due to the communal style of dining\, it is not suitable for severe allergies. \nFind out more
URL:https://creativebop.org.nz/event/of-the-earth-conceptual-dining-event/
LOCATION:Ōmanu Community Garden\, Golf Road\, Mount Maunganui\, 3116
ATTACH;FMTTYPE=image/jpeg:https://creativebop.org.nz/wp-content/uploads/Kendra-events-template-32-34.jpg
ORGANIZER;CN="Flavours of Plenty Festival":MAILTO:hello@fopfestival.com
END:VEVENT
END:VCALENDAR