BEGIN:VCALENDAR
VERSION:2.0
PRODID:-//CBOP - ECPv6.15.0.1//NONSGML v1.0//EN
CALSCALE:GREGORIAN
METHOD:PUBLISH
X-WR-CALNAME:CBOP
X-ORIGINAL-URL:https://creativebop.org.nz
X-WR-CALDESC:Events for CBOP
REFRESH-INTERVAL;VALUE=DURATION:PT1H
X-Robots-Tag:noindex
X-PUBLISHED-TTL:PT1H
BEGIN:VTIMEZONE
TZID:Pacific/Auckland
BEGIN:STANDARD
TZOFFSETFROM:+1300
TZOFFSETTO:+1200
TZNAME:NZST
DTSTART:20260404T140000
END:STANDARD
BEGIN:DAYLIGHT
TZOFFSETFROM:+1200
TZOFFSETTO:+1300
TZNAME:NZDT
DTSTART:20260926T140000
END:DAYLIGHT
END:VTIMEZONE
BEGIN:VEVENT
DTSTART;TZID=Pacific/Auckland:20260423T170000
DTEND;TZID=Pacific/Auckland:20260423T170000
DTSTAMP:20260422T060553
CREATED:20260421T020251Z
LAST-MODIFIED:20260421T020252Z
UID:10005846-1776963600-1776963600@creativebop.org.nz
SUMMARY:Alumni Ngāti 26 Alf Rendell Photography Scholarship Exhibition
DESCRIPTION:Presented by: Bachelor of Creative Industries Toi Ohomai Institute of Technology\nYou’re Invited – Join us in celebrating a decade of photographic excellence! \nAlumni Ngāti 26\nAlf Rendell Photography Scholarship Exhibition. 10 Year Celebration of Photography Excellence. \nThis special exhibition showcases the exceptional talent of alumni photographers\, marking ten years of creativity and storytelling. Celebrate the journeys\, achievements and artistic voices that have shaped a decade of photography. \nFind out more
URL:https://creativebop.org.nz/event/alumni-ngati-26-alf-rendell-photography-scholarship-exhibition/
LOCATION:Te Ara o Mauao Gallery\, M block\, Windermere Campus\, Toi Ohomai Institute of Technology\, 70 Windermere Drive\, Poike\, Tauranga 3\, 3112
ATTACH;FMTTYPE=image/jpeg:https://creativebop.org.nz/wp-content/uploads/Kendra-events-template-33.jpg
END:VEVENT
END:VCALENDAR