BEGIN:VCALENDAR
VERSION:2.0
PRODID:-//CBOP - ECPv6.15.0.1//NONSGML v1.0//EN
CALSCALE:GREGORIAN
METHOD:PUBLISH
X-WR-CALNAME:CBOP
X-ORIGINAL-URL:https://creativebop.org.nz
X-WR-CALDESC:Events for CBOP
REFRESH-INTERVAL;VALUE=DURATION:PT1H
X-Robots-Tag:noindex
X-PUBLISHED-TTL:PT1H
BEGIN:VTIMEZONE
TZID:Pacific/Auckland
BEGIN:STANDARD
TZOFFSETFROM:+1300
TZOFFSETTO:+1200
TZNAME:NZST
DTSTART:20260404T140000
END:STANDARD
BEGIN:DAYLIGHT
TZOFFSETFROM:+1200
TZOFFSETTO:+1300
TZNAME:NZDT
DTSTART:20260926T140000
END:DAYLIGHT
END:VTIMEZONE
BEGIN:VEVENT
DTSTART;TZID=Pacific/Auckland:20260502T120000
DTEND;TZID=Pacific/Auckland:20260502T180000
DTSTAMP:20260422T102455
CREATED:20260421T005439Z
LAST-MODIFIED:20260421T005439Z
UID:10005832-1777723200-1777744800@creativebop.org.nz
SUMMARY:League of Fire Chilli Eating Contest
DESCRIPTION:Presented by: Flavours of Plenty Festival\nFor the first time ever\, Tauranga will host the 2026 New Zealand National Chilli Eating Challenge on Wharf Street. Top competitors\, including local chilli legend Shannon Leigh and 2025 NZ champion Jesse Painter\, will face escalating heat in a fiery battle for the national champion title. Come along to watch the action\, browse stalls from local and national hot sauce makers\, and enjoy restaurants and bars serving their own spicy specials. Think you can take the heat? Sign up to compete against the region’s fiercest chilli eaters. \nThe event runs from 12pm to 6pm\, with the chilli-eating competition kicking off at 3pm. \nFind out more
URL:https://creativebop.org.nz/event/league-of-fire-chilli-eating-contest/
LOCATION:The Barrel Room\, 26 Wharf Street\, Tauranga\, Bay of Plenty\, 3110\, New Zealand
ATTACH;FMTTYPE=image/jpeg:https://creativebop.org.nz/wp-content/uploads/Kendra-events-template-32-31.jpg
ORGANIZER;CN="Flavours of Plenty Festival":MAILTO:hello@fopfestival.com
GEO:-37.6836;176.16922
X-APPLE-STRUCTURED-LOCATION;VALUE=URI;X-ADDRESS=The Barrel Room 26 Wharf Street Tauranga Bay of Plenty 3110 New Zealand;X-APPLE-RADIUS=500;X-TITLE=26 Wharf Street:geo:176.16922,-37.6836
END:VEVENT
END:VCALENDAR