BEGIN:VCALENDAR
VERSION:2.0
PRODID:-//CBOP - ECPv6.15.0.1//NONSGML v1.0//EN
CALSCALE:GREGORIAN
METHOD:PUBLISH
X-ORIGINAL-URL:https://creativebop.org.nz
X-WR-CALDESC:Events for CBOP
REFRESH-INTERVAL;VALUE=DURATION:PT1H
X-Robots-Tag:noindex
X-PUBLISHED-TTL:PT1H
BEGIN:VTIMEZONE
TZID:Pacific/Auckland
BEGIN:STANDARD
TZOFFSETFROM:+1300
TZOFFSETTO:+1200
TZNAME:NZST
DTSTART:20260404T140000
END:STANDARD
BEGIN:DAYLIGHT
TZOFFSETFROM:+1200
TZOFFSETTO:+1300
TZNAME:NZDT
DTSTART:20260926T140000
END:DAYLIGHT
END:VTIMEZONE
BEGIN:VEVENT
DTSTART;TZID=Pacific/Auckland:20260228T093000
DTEND;TZID=Pacific/Auckland:20260228T113000
DTSTAMP:20260420T034408
CREATED:20260219T004950Z
LAST-MODIFIED:20260219T004951Z
UID:10005576-1772271000-1772278200@creativebop.org.nz
SUMMARY:Tauranga Repair Cafe - Junior Edition
DESCRIPTION:Presented by: Basestation | Tinkd Makerspace\nDuring our usual Monthly Repair Cafe session we will have two activities for kids\, a visible mending activity and a take-apart mini repair activity. Please register for these. \nThis event is associated with Children’s Day 2026. \nPlease note: there will be a photographer and videographer present on the day capturing content for social media and marketing purposes. If you do not wish to be photographed\, please let us know when you see us. \nFind out more
URL:https://creativebop.org.nz/event/tauranga-repair-cafe-junior-edition/
LOCATION:Tinkd Makerspace\, 148 Durham Street\, Tauranga\, 3110
CATEGORIES:Event
ATTACH;FMTTYPE=image/jpeg:https://creativebop.org.nz/wp-content/uploads/Kendra-events-template-1-1-17.jpg
ORGANIZER;CN="Tinkd Makerspace":MAILTO:hello@tinkd.nz
END:VEVENT
BEGIN:VEVENT
DTSTART;TZID=Pacific/Auckland:20260227T093000
DTEND;TZID=Pacific/Auckland:20260227T120000
DTSTAMP:20260420T034408
CREATED:20260219T004602Z
LAST-MODIFIED:20260219T004621Z
UID:10005575-1772184600-1772193600@creativebop.org.nz
SUMMARY:Open morning at Tinkd Makerspace
DESCRIPTION:Presented by: Basestation | Tinkd Makerspace\nCome along and see what Tinkd Makerspace is all about\, ask questions\, view some examples of what you could make and do as a member. \nThis event is associated with Children’s Day 2026. \nPlease note: there will be a photographer and videographer present on the day capturing content for social media and marketing purposes. If you do not wish to be photographed\, please let us know when you see us. \nFind out more
URL:https://creativebop.org.nz/event/open-morning-at-tinkd-makerspace/
LOCATION:Tinkd Makerspace\, 148 Durham Street\, Tauranga\, 3110
CATEGORIES:Event
ATTACH;FMTTYPE=image/jpeg:https://creativebop.org.nz/wp-content/uploads/Kendra-events-template-22-5.jpg
ORGANIZER;CN="Tinkd Makerspace":MAILTO:hello@tinkd.nz
END:VEVENT
END:VCALENDAR