BEGIN:VCALENDAR
VERSION:2.0
PRODID:-//CBOP - ECPv6.15.0.1//NONSGML v1.0//EN
CALSCALE:GREGORIAN
METHOD:PUBLISH
X-WR-CALNAME:CBOP
X-ORIGINAL-URL:https://creativebop.org.nz
X-WR-CALDESC:Events for CBOP
REFRESH-INTERVAL;VALUE=DURATION:PT1H
X-Robots-Tag:noindex
X-PUBLISHED-TTL:PT1H
BEGIN:VTIMEZONE
TZID:Pacific/Auckland
BEGIN:STANDARD
TZOFFSETFROM:+1300
TZOFFSETTO:+1200
TZNAME:NZST
DTSTART:20260404T140000
END:STANDARD
BEGIN:DAYLIGHT
TZOFFSETFROM:+1200
TZOFFSETTO:+1300
TZNAME:NZDT
DTSTART:20260926T140000
END:DAYLIGHT
END:VTIMEZONE
BEGIN:VEVENT
DTSTART;TZID=Pacific/Auckland:20260326T120000
DTEND;TZID=Pacific/Auckland:20260326T140000
DTSTAMP:20260420T113418
CREATED:20260225T190904Z
LAST-MODIFIED:20260225T190904Z
UID:10005586-1774526400-1774533600@creativebop.org.nz
SUMMARY:Creative Connections Lunch
DESCRIPTION:We would love you to join us for the next Creative Connections Lunch! \nThese events provide an opportunity for creatives to catch up with friends\, grow their networks\, discover new collaborations\, and depart feeling inspired and connected.⁠  The lunch will be held at one of our favourite spots – Halo Restaurant at Trinity Wharf Tauranga. \nThese events are popular and sell out fast\, so reserve your place now! \nWhen:        12-2pm\, Thursday 26 March 2026 \nWhere:       Trinity Wharf Tauranga\, 51 Dive Crescent\, Tauranga \nCost:          $39 per person⁠ \nThe lunch will be an alternate drop menu\, with a vegetarian option available.  If you are vegetarian\, please select this when you check out.⁠ \nWe look forward to seeing you there! \nThis event is brought to you by Creative Bay of Plenty.  We advocate for the growth of arts\, culture and creativity in Tauranga and the Western Bay of Plenty.
URL:https://creativebop.org.nz/event/creative-connections-lunch/
LOCATION:Trinity Wharf\, Trinity Wharf Tauranga\, 51 Dive Crescent\, Tauranga 3110\, Tauranga\, Bay of Plenty\, 3110\, New Zealand
CATEGORIES:Event
ATTACH;FMTTYPE=image/jpeg:https://creativebop.org.nz/wp-content/uploads/Kendra-events-template-22-14.jpg
ORGANIZER;CN="Creative Bay of Plenty | Te Waka Auaha Toi":MAILTO:connect@creativebop.org.nz
GEO:-37.6757844;176.1701244
X-APPLE-STRUCTURED-LOCATION;VALUE=URI;X-ADDRESS=Trinity Wharf Trinity Wharf Tauranga 51 Dive Crescent Tauranga 3110 Tauranga Bay of Plenty 3110 New Zealand;X-APPLE-RADIUS=500;X-TITLE=Trinity Wharf Tauranga\, 51 Dive Crescent\, Tauranga 3110:geo:176.1701244,-37.6757844
END:VEVENT
END:VCALENDAR