BEGIN:VCALENDAR
VERSION:2.0
PRODID:-//CBOP - ECPv6.15.0.1//NONSGML v1.0//EN
CALSCALE:GREGORIAN
METHOD:PUBLISH
X-WR-CALNAME:CBOP
X-ORIGINAL-URL:https://creativebop.org.nz
X-WR-CALDESC:Events for CBOP
REFRESH-INTERVAL;VALUE=DURATION:PT1H
X-Robots-Tag:noindex
X-PUBLISHED-TTL:PT1H
BEGIN:VTIMEZONE
TZID:Pacific/Auckland
BEGIN:STANDARD
TZOFFSETFROM:+1300
TZOFFSETTO:+1200
TZNAME:NZST
DTSTART:20250405T140000
END:STANDARD
BEGIN:DAYLIGHT
TZOFFSETFROM:+1200
TZOFFSETTO:+1300
TZNAME:NZDT
DTSTART:20250927T140000
END:DAYLIGHT
BEGIN:STANDARD
TZOFFSETFROM:+1300
TZOFFSETTO:+1200
TZNAME:NZST
DTSTART:20260404T140000
END:STANDARD
BEGIN:DAYLIGHT
TZOFFSETFROM:+1200
TZOFFSETTO:+1300
TZNAME:NZDT
DTSTART:20260926T140000
END:DAYLIGHT
END:VTIMEZONE
BEGIN:VEVENT
DTSTART;VALUE=DATE:20251105
DTEND;VALUE=DATE:20260301
DTSTAMP:20260422T034319
CREATED:20251102T122911Z
LAST-MODIFIED:20251105T153330Z
UID:10005345-1762300800-1772323199@creativebop.org.nz
SUMMARY:Where to NEXT? Study a Creative Course in 2026
DESCRIPTION:Presented by: Toi Ohomai Institute of Technology\, Windermere Campus\nToi Ohomai offers a diverse range of creative courses—from graphic design and visual arts through to content creation\, music performance and production . Our programmes are designed to equip you with the technical skills\, hands-on experience\, and creative mindset needed to thrive in today’s dynamic creative industries. \nWhether you’re just starting your journey or looking to take your talents to the next level\, we have options to suit every stage. Among our standout offerings is the Bachelor of Creative Industries—one of the Bay of Plenty’s most respected creative degrees\, with majors available in design and visual arts. \nAll courses are led by experienced tutors who are not only experts in their fields\, but also active artists with strong industry connections. You’ll get to learn in collaborative\, purpose-built spaces that foster innovation and creativity. Check out our 2026 courses today. \nFind out more
URL:https://creativebop.org.nz/event/toi-ohomai-institute-of-technology-semester-1-2026/
LOCATION:Toi Ohomai Institute of Technology\, Windermere Campus.\, Toi Ohomai Institute of Technology - Windermere Campus\, Tauranga\, 70 Windermere Dr\, Poike\, Tauranga 3112\, Tauranga\, Bay of Plenty\, 3112\, New Zealand
CATEGORIES:Event
ATTACH;FMTTYPE=image/jpeg:https://creativebop.org.nz/wp-content/uploads/Kendra-events-template-9-3.jpg
ORGANIZER;CN="Toi Ohomai Institute of Technology":MAILTO:info@toiohomai.ac.nz
GEO:-37.733423;176.148347
X-APPLE-STRUCTURED-LOCATION;VALUE=URI;X-ADDRESS=Toi Ohomai Institute of Technology Windermere Campus. Toi Ohomai Institute of Technology - Windermere Campus Tauranga 70 Windermere Dr Poike Tauranga 3112 Tauranga Bay of Plenty 3112 New Zealand;X-APPLE-RADIUS=500;X-TITLE=Toi Ohomai Institute of Technology - Windermere Campus\, Tauranga\, 70 Windermere Dr\, Poike\, Tauranga 3112:geo:176.148347,-37.733423
END:VEVENT
END:VCALENDAR